BEGIN:VCALENDAR
VERSION:2.0
PRODID:-//Hunter Health - ECPv6.15.17.1//NONSGML v1.0//EN
CALSCALE:GREGORIAN
METHOD:PUBLISH
X-ORIGINAL-URL:https://hunterhealth.org
X-WR-CALDESC:Events for Hunter Health
REFRESH-INTERVAL;VALUE=DURATION:PT1H
X-Robots-Tag:noindex
X-PUBLISHED-TTL:PT1H
BEGIN:VTIMEZONE
TZID:America/Chicago
BEGIN:DAYLIGHT
TZOFFSETFROM:-0600
TZOFFSETTO:-0500
TZNAME:CDT
DTSTART:20240310T080000
END:DAYLIGHT
BEGIN:STANDARD
TZOFFSETFROM:-0500
TZOFFSETTO:-0600
TZNAME:CST
DTSTART:20241103T070000
END:STANDARD
BEGIN:DAYLIGHT
TZOFFSETFROM:-0600
TZOFFSETTO:-0500
TZNAME:CDT
DTSTART:20250309T080000
END:DAYLIGHT
BEGIN:STANDARD
TZOFFSETFROM:-0500
TZOFFSETTO:-0600
TZNAME:CST
DTSTART:20251102T070000
END:STANDARD
BEGIN:DAYLIGHT
TZOFFSETFROM:-0600
TZOFFSETTO:-0500
TZNAME:CDT
DTSTART:20260308T080000
END:DAYLIGHT
BEGIN:STANDARD
TZOFFSETFROM:-0500
TZOFFSETTO:-0600
TZNAME:CST
DTSTART:20261101T070000
END:STANDARD
END:VTIMEZONE
BEGIN:VEVENT
DTSTART;TZID=America/Chicago:20250927T170000
DTEND;TZID=America/Chicago:20250927T213000
DTSTAMP:20260425T071436
CREATED:20250821T163210Z
LAST-MODIFIED:20250821T163210Z
UID:12324-1758992400-1759008600@hunterhealth.org
SUMMARY:44th Wichita Asian Festival hosted by Wichita Asian Association
DESCRIPTION:44th Wichita Asian Festival hosted by Wichita Asian Association 
URL:https://hunterhealth.org/event/44th-wichita-asian-festival-hosted-by-wichita-asian-association/
LOCATION:Century II Expo Hall\, 225 W Douglas\, wichita\, KS\, 67202\, United States
CATEGORIES:Festival
END:VEVENT
END:VCALENDAR