BEGIN:VCALENDAR
VERSION:2.0
PRODID:-//Hunter Health - ECPv6.15.17.1//NONSGML v1.0//EN
CALSCALE:GREGORIAN
METHOD:PUBLISH
X-ORIGINAL-URL:https://hunterhealth.org
X-WR-CALDESC:Events for Hunter Health
REFRESH-INTERVAL;VALUE=DURATION:PT1H
X-Robots-Tag:noindex
X-PUBLISHED-TTL:PT1H
BEGIN:VTIMEZONE
TZID:America/Chicago
BEGIN:DAYLIGHT
TZOFFSETFROM:-0600
TZOFFSETTO:-0500
TZNAME:CDT
DTSTART:20240310T080000
END:DAYLIGHT
BEGIN:STANDARD
TZOFFSETFROM:-0500
TZOFFSETTO:-0600
TZNAME:CST
DTSTART:20241103T070000
END:STANDARD
BEGIN:DAYLIGHT
TZOFFSETFROM:-0600
TZOFFSETTO:-0500
TZNAME:CDT
DTSTART:20250309T080000
END:DAYLIGHT
BEGIN:STANDARD
TZOFFSETFROM:-0500
TZOFFSETTO:-0600
TZNAME:CST
DTSTART:20251102T070000
END:STANDARD
BEGIN:DAYLIGHT
TZOFFSETFROM:-0600
TZOFFSETTO:-0500
TZNAME:CDT
DTSTART:20260308T080000
END:DAYLIGHT
BEGIN:STANDARD
TZOFFSETFROM:-0500
TZOFFSETTO:-0600
TZNAME:CST
DTSTART:20261101T070000
END:STANDARD
END:VTIMEZONE
BEGIN:VEVENT
DTSTART;TZID=America/Chicago:20251101T100000
DTEND;TZID=America/Chicago:20251101T120000
DTSTAMP:20260424T034946
CREATED:20251031T183750Z
LAST-MODIFIED:20251031T183750Z
UID:12548-1761991200-1761998400@hunterhealth.org
SUMMARY:Art Together: Mindful Moves
DESCRIPTION:Art Together: Mindful Moves \nFree event for families to create and appreciate art through story times\, art projects\, and performances   \nRegistration is required. Visit markarts.com for more details  
URL:https://hunterhealth.org/event/art-together-mindful-moves/
LOCATION:Mark Arts\, 1307 N Rock Rd\, wichita\, KS\, 67206\, United States
CATEGORIES:Arts,Family
END:VEVENT
BEGIN:VEVENT
DTSTART;TZID=America/Chicago:20251101T150000
DTEND;TZID=America/Chicago:20251101T170000
DTSTAMP:20260424T034946
CREATED:20251031T184907Z
LAST-MODIFIED:20251031T184907Z
UID:12551-1762009200-1762016400@hunterhealth.org
SUMMARY:Mama Joe Project
DESCRIPTION:Mama Joe Project \nFree Film screening and Q&A panel for families needing resources for caregiving for a loved one with Alzheimer’s Dementia   \nWill need to fill out the registration at https://www.mamajoeproject.com/wichita   \nIn the Lowe Auditorium 
URL:https://hunterhealth.org/event/mama-joe-project/
LOCATION:WSU Eugene M. Hughes Metropolitan Complex\, 5015 E 29th St N.\, Wichita\, KS\, 67220\, United States
CATEGORIES:Film
END:VEVENT
BEGIN:VEVENT
DTSTART;TZID=America/Chicago:20251107T130000
DTEND;TZID=America/Chicago:20251107T160000
DTSTAMP:20260424T034946
CREATED:20251031T185233Z
LAST-MODIFIED:20251031T185233Z
UID:12553-1762520400-1762531200@hunterhealth.org
SUMMARY:Evergreen Drive-thru Mobile Food Distribution
DESCRIPTION:Evergreen Drive-thru Mobile Food Distribution   \nNovember 7th @ 1 pm until supplies last   \n 
URL:https://hunterhealth.org/event/evergreen-drive-thru-mobile-food-distribution/
LOCATION:Evergreen Recreation Center\, 2700 N. Woodland\, Wichita\, KS\, United States
CATEGORIES:Food distribution
END:VEVENT
BEGIN:VEVENT
DTSTART;TZID=America/Chicago:20251107T163000
DTEND;TZID=America/Chicago:20251107T183000
DTSTAMP:20260424T034946
CREATED:20251031T185629Z
LAST-MODIFIED:20251031T185629Z
UID:12555-1762533000-1762540200@hunterhealth.org
SUMMARY:Word of Life Produce Distribution
DESCRIPTION:Word of Life Produce Distribution   \nInside the church gymnasium
URL:https://hunterhealth.org/event/word-of-life-produce-distribution-13/
LOCATION:Word of Life Church South Campus\, 2020 E Blake St\, Wichita\, KS\, United States
CATEGORIES:Produce distribution
END:VEVENT
BEGIN:VEVENT
DTSTART;TZID=America/Chicago:20251108T090000
DTEND;TZID=America/Chicago:20251108T110000
DTSTAMP:20260424T034946
CREATED:20251031T190700Z
LAST-MODIFIED:20251031T190802Z
UID:12557-1762592400-1762599600@hunterhealth.org
SUMMARY:Pop Up Community Health Clinic
DESCRIPTION:Pop Up Community Health Clinic   \nInside the City Life Church
URL:https://hunterhealth.org/event/pop-up-community-health-clinic-5/
LOCATION:City Life Church\, 216 E 2nd St N\, Wichita\, KS\, United States
CATEGORIES:Community Clinic
END:VEVENT
BEGIN:VEVENT
DTSTART;TZID=America/Chicago:20251108T110000
DTEND;TZID=America/Chicago:20251108T130000
DTSTAMP:20260424T034946
CREATED:20251031T191607Z
LAST-MODIFIED:20251031T191607Z
UID:12561-1762599600-1762606800@hunterhealth.org
SUMMARY:Winter Warm Up Event hosted by Healthy Blue Kansas
DESCRIPTION:Winter Warm Up Event hosted by Healthy Blue Kansas \nFree resource fair with flu shots\, winter essentials giveaways including hats\, scarves\, gloves\, and coats\, while supplies last  
URL:https://hunterhealth.org/event/winter-warm-up-event-hosted-by-healthy-blue-kansas/
LOCATION:Urban League of Kansas\, 2418 E. 9th St.\, Wichita\, Kansas\, 67214
CATEGORIES:Resource Fair
END:VEVENT
BEGIN:VEVENT
DTSTART;TZID=America/Chicago:20251115T090000
DTEND;TZID=America/Chicago:20251115T110000
DTSTAMP:20260424T034946
CREATED:20251031T191957Z
LAST-MODIFIED:20251031T191957Z
UID:12563-1763197200-1763204400@hunterhealth.org
SUMMARY:Mobile Hygiene Pantry
DESCRIPTION:Mobile Hygiene Pantry \nNovember 15th @ 9 am until supplies last   \nInside the Lord’s Diner
URL:https://hunterhealth.org/event/mobile-hygiene-pantry-9/
LOCATION:The Lord’s Diner – Hillside Location\, 2825 S. Hillside\, wichita\, KS\, 67216\, United States
CATEGORIES:Hygiene Pantry
END:VEVENT
BEGIN:VEVENT
DTSTART;TZID=America/Chicago:20251119T173000
DTEND;TZID=America/Chicago:20251119T190000
DTSTAMP:20260424T034946
CREATED:20251031T191228Z
LAST-MODIFIED:20251031T191228Z
UID:12559-1763573400-1763578800@hunterhealth.org
SUMMARY:Learning about Breastfeeding: Hosted by Healthy Babies and Wesley Health
DESCRIPTION:Learning about Breastfeeding: Hosted by Healthy Babies and Wesley Health  \nSign up at schd.online/birthsupport25  
URL:https://hunterhealth.org/event/learning-about-breastfeeding-hosted-by-healthy-babies-and-wesley-health-5/
LOCATION:Sedgwick County Health Department\, 1900 E 9th St N\, Wichita\, KS\, 67214\, United States
CATEGORIES:Family,Workshop
END:VEVENT
BEGIN:VEVENT
DTSTART;TZID=America/Chicago:20251119T180000
DTEND;TZID=America/Chicago:20251119T193000
DTSTAMP:20260424T034946
CREATED:20251031T192309Z
LAST-MODIFIED:20251031T192309Z
UID:12565-1763575200-1763580600@hunterhealth.org
SUMMARY:Credit Building Workshop: Hosted by Urban League of Kansas
DESCRIPTION:Credit Building Workshop: Hosted by Urban League of Kansas  \nFree in-person event\, but you must register at https://wkf.ms/3OvaW8g  \n 
URL:https://hunterhealth.org/event/credit-building-workshop-hosted-by-urban-league-of-kansas-5/
LOCATION:Urban League of Kansas\, 2418 E. 9th St.\, Wichita\, Kansas\, 67214
CATEGORIES:Workshop
END:VEVENT
BEGIN:VEVENT
DTSTART;TZID=America/Chicago:20251120T140000
DTEND;TZID=America/Chicago:20251120T170000
DTSTAMP:20260424T034946
CREATED:20251031T192532Z
LAST-MODIFIED:20251031T192532Z
UID:12567-1763647200-1763658000@hunterhealth.org
SUMMARY:Urban League Drive-thru Produce Distribution
DESCRIPTION:Urban League Drive-thru Produce Distribution \nNovember 20 @ 2 pm until supplies last   \n 
URL:https://hunterhealth.org/event/urban-league-drive-thru-produce-distribution-8/
LOCATION:Urban League of Kansas\, 2418 E. 9th St.\, Wichita\, Kansas\, 67214
CATEGORIES:Produce distribution
END:VEVENT
BEGIN:VEVENT
DTSTART;TZID=America/Chicago:20251121T163000
DTEND;TZID=America/Chicago:20251121T183000
DTSTAMP:20260424T034946
CREATED:20251031T192913Z
LAST-MODIFIED:20251031T193243Z
UID:12569-1763742600-1763749800@hunterhealth.org
SUMMARY:New Life Produce Distribution
DESCRIPTION:New Life Produce Distribution \nNovember 21st @ 4:45 pm until supplies last   \nInside the church gymnasium
URL:https://hunterhealth.org/event/new-life-produce-distribution-10/
LOCATION:New Life Church — Oliver location\, 1156 N. Oliver\, Wichita\, KS\, 67208\, United States
CATEGORIES:Food distribution,Produce distribution
END:VEVENT
END:VCALENDAR