BEGIN:VCALENDAR
VERSION:2.0
PRODID:-//Hunter Health - ECPv6.15.17.1//NONSGML v1.0//EN
CALSCALE:GREGORIAN
METHOD:PUBLISH
X-WR-CALNAME:Hunter Health
X-ORIGINAL-URL:https://hunterhealth.org
X-WR-CALDESC:Events for Hunter Health
REFRESH-INTERVAL;VALUE=DURATION:PT1H
X-Robots-Tag:noindex
X-PUBLISHED-TTL:PT1H
BEGIN:VTIMEZONE
TZID:America/Chicago
BEGIN:DAYLIGHT
TZOFFSETFROM:-0600
TZOFFSETTO:-0500
TZNAME:CDT
DTSTART:20240310T080000
END:DAYLIGHT
BEGIN:STANDARD
TZOFFSETFROM:-0500
TZOFFSETTO:-0600
TZNAME:CST
DTSTART:20241103T070000
END:STANDARD
BEGIN:DAYLIGHT
TZOFFSETFROM:-0600
TZOFFSETTO:-0500
TZNAME:CDT
DTSTART:20250309T080000
END:DAYLIGHT
BEGIN:STANDARD
TZOFFSETFROM:-0500
TZOFFSETTO:-0600
TZNAME:CST
DTSTART:20251102T070000
END:STANDARD
BEGIN:DAYLIGHT
TZOFFSETFROM:-0600
TZOFFSETTO:-0500
TZNAME:CDT
DTSTART:20260308T080000
END:DAYLIGHT
BEGIN:STANDARD
TZOFFSETFROM:-0500
TZOFFSETTO:-0600
TZNAME:CST
DTSTART:20261101T070000
END:STANDARD
END:VTIMEZONE
BEGIN:VEVENT
DTSTART;TZID=America/Chicago:20250703T163000
DTEND;TZID=America/Chicago:20250703T173000
DTSTAMP:20260419T094707
CREATED:20250625T155835Z
LAST-MODIFIED:20250625T155835Z
UID:12124-1751560200-1751563800@hunterhealth.org
SUMMARY:Word of Life Produce Distribution
DESCRIPTION:Word of Life Produce Distribution  \nStarting at 4:30pm until supplies last
URL:https://hunterhealth.org/event/word-of-life-produce-distribution-8/
LOCATION:Word of Life Church South Campus\, 2020 E Blake St\, Wichita\, KS\, United States
CATEGORIES:Produce distribution
END:VEVENT
BEGIN:VEVENT
DTSTART;TZID=America/Chicago:20250717T140000
DTEND;TZID=America/Chicago:20250717T160000
DTSTAMP:20260419T094707
CREATED:20250625T163356Z
LAST-MODIFIED:20250625T163356Z
UID:12135-1752760800-1752768000@hunterhealth.org
SUMMARY:Urban League Drive-thru Produce Distribution
DESCRIPTION:Urban League Drive-thru Produce Distribution \nJuly 17th @ 2 pm until supplies last
URL:https://hunterhealth.org/event/urban-league-drive-thru-produce-distribution-5/
LOCATION:Urban League of Kansas\, 2418 E. 9th St.\, Wichita\, Kansas\, 67214
CATEGORIES:Produce distribution
END:VEVENT
BEGIN:VEVENT
DTSTART;TZID=America/Chicago:20250725T163000
DTEND;TZID=America/Chicago:20250725T183000
DTSTAMP:20260419T094707
CREATED:20250625T185316Z
LAST-MODIFIED:20250625T185316Z
UID:12155-1753461000-1753468200@hunterhealth.org
SUMMARY:New Life Produce Distribution
DESCRIPTION:New Life Produce Distribution   \nInside the church gymnasium
URL:https://hunterhealth.org/event/new-life-produce-distribution-7/
LOCATION:New Life Church — Oliver location\, 1156 N. Oliver\, Wichita\, KS\, 67208\, United States
CATEGORIES:Produce distribution
END:VEVENT
END:VCALENDAR