BEGIN:VCALENDAR
VERSION:2.0
PRODID:-//Hunter Health - ECPv6.15.17.1//NONSGML v1.0//EN
CALSCALE:GREGORIAN
METHOD:PUBLISH
X-ORIGINAL-URL:https://hunterhealth.org
X-WR-CALDESC:Events for Hunter Health
REFRESH-INTERVAL;VALUE=DURATION:PT1H
X-Robots-Tag:noindex
X-PUBLISHED-TTL:PT1H
BEGIN:VTIMEZONE
TZID:America/Chicago
BEGIN:DAYLIGHT
TZOFFSETFROM:-0600
TZOFFSETTO:-0500
TZNAME:CDT
DTSTART:20240310T080000
END:DAYLIGHT
BEGIN:STANDARD
TZOFFSETFROM:-0500
TZOFFSETTO:-0600
TZNAME:CST
DTSTART:20241103T070000
END:STANDARD
BEGIN:DAYLIGHT
TZOFFSETFROM:-0600
TZOFFSETTO:-0500
TZNAME:CDT
DTSTART:20250309T080000
END:DAYLIGHT
BEGIN:STANDARD
TZOFFSETFROM:-0500
TZOFFSETTO:-0600
TZNAME:CST
DTSTART:20251102T070000
END:STANDARD
BEGIN:DAYLIGHT
TZOFFSETFROM:-0600
TZOFFSETTO:-0500
TZNAME:CDT
DTSTART:20260308T080000
END:DAYLIGHT
BEGIN:STANDARD
TZOFFSETFROM:-0500
TZOFFSETTO:-0600
TZNAME:CST
DTSTART:20261101T070000
END:STANDARD
END:VTIMEZONE
BEGIN:VEVENT
DTSTART;TZID=America/Chicago:20251231T160000
DTEND;TZID=America/Chicago:20251231T210000
DTSTAMP:20260424T073408
CREATED:20251201T215803Z
LAST-MODIFIED:20251201T215940Z
UID:12628-1767196800-1767214800@hunterhealth.org
SUMMARY:Sobriety Powwow
DESCRIPTION:Sobriety Powwow    \nDecember 31st @ TBA   \nCalvary United Methodist Church 2525 N Rock Rd.
URL:https://hunterhealth.org/event/sobriety-powwow-2/
LOCATION:Calvary United Methodist Church\, 2525 N. Rock Road\, Wichita\, Kansas\, 67226\, United States
END:VEVENT
END:VCALENDAR